BEGIN:VCALENDAR
VERSION:2.0
PRODID:-// - ECPv5.8.1//NONSGML v1.0//EN
CALSCALE:GREGORIAN
METHOD:PUBLISH
X-ORIGINAL-URL:https://onewayinn.com
X-WR-CALDESC:Events for 
BEGIN:VTIMEZONE
TZID:America/Toronto
BEGIN:DAYLIGHT
TZOFFSETFROM:-0500
TZOFFSETTO:-0400
TZNAME:EDT
DTSTART:20240310T070000
END:DAYLIGHT
BEGIN:STANDARD
TZOFFSETFROM:-0400
TZOFFSETTO:-0500
TZNAME:EST
DTSTART:20241103T060000
END:STANDARD
END:VTIMEZONE
BEGIN:VEVENT
DTSTART;TZID=America/Toronto:20241101T190000
DTEND;TZID=America/Toronto:20241101T210000
DTSTAMP:20260421T093108
CREATED:20181115T144838Z
LAST-MODIFIED:20240813T172830Z
UID:1642-1730487600-1730494800@onewayinn.com
SUMMARY:High School Dropin
DESCRIPTION:7pm to 9pm.
URL:https://onewayinn.com/event/high-school-dropin-jodi-grads/
CATEGORIES:Dropin,High School Events
END:VEVENT
END:VCALENDAR